BEGIN:VCALENDAR
VERSION:2.0
PRODID:www.polyamory.events
METHOD:REQUEST
BEGIN:VEVENT
UID:99bb13f1-3ad5-497f-ac88-9f09306564e4
SUMMARY:FLINTA* Poly Stammtisch Köln
DTSTART:20260521T170000Z
URL:https://www.polyamory.events/event/99bb13f1-3ad5-497f-ac88-9f09306564e4
CATEGORIES:Stammtisch\,Nordrhein-Westfalen
DESCRIPTION:Dieser Termin ist für Leute\, die bereits bei diesem
  Stammtisch waren. \n\nDu möchtest neu dazukommen? \nAlle 2 Monate (in
  den geraden Monaten) findet der Stammtisch am 2. Dienstag im Monat statt
  und ist für neue Teilnehmende offen. \nDie Termine hierfür findest Du
  ebenfalls im Kalender\, sowie weitere Infos zu Stammtisch und
  Anmeldung.\n\n\n
LOCATION:Köln Ehrenfeld
GEO:5.0938361e+07;6.959974e+06
ORGANIZER:mailto:Polyamorie Stammtisch für FLINTA*
END:VEVENT
BEGIN:VEVENT
UID:48d8a94e-6121-4d9d-8b62-e700c7f79bf9
SUMMARY:FLINTA* Poly Stammtisch Köln
DTSTART:20260609T171500Z
URL:https://www.polyamory.events/event/48d8a94e-6121-4d9d-8b62-e700c7f79bf9
DTEND:20260609T200000Z
CATEGORIES:Stammtisch\,Nordrhein-Westfalen
DESCRIPTION:Wir möchten einen möglichst sicheren Raum bieten\, eigene
  Erfahrungen mit Menschen zu teilen\, die mindestens eine aufgeschlossene
  Neugier für einvernehmliche nicht-monogame Beziehungen mitbringen.\nBei
  unseren Treffen besprechen wir viel\, da dies ein Raum für Austausch
  ist. Dabei lassen wir uns gegenseitig ausreden und respektieren das
  Erleben von Anderen.\n\nFLINTA*-Personen\, die sich für Polyamorie und
  andere konsensuelle nicht-monogame Beziehungen interessieren und neu im
  Thema sind\, sind ebenso herzlich willkommen wie diejenigen\, die sich
  bereits länger mit dem Thema auseinandersetzen und Austausch über die
  vielen Aspekte\, Herausforderungen und Möglichkeiten wünschen.\nUns ist
  wichtig zu betonen: Damit sind ausdrücklich nicht nur cis Frauen
  gemeint. Willkommen sind unter anderem trans* Frauen\, trans* Männer\,
  nicht-binäre und genderqueere Personen sowie inter* und agender
  Menschen.\n\nEs ist KEINE Selbstoffenbarung / outing uns gegenüber
  nötig. Wenn du dich mit dem FLINTA* Label identifizierst\, heißt das
  automatisch\, daß du in unserer Gruppe willkommen bist.\n\nTermine für
  neue Teilnehmende:\nAlle 2 Monate (in den geraden Monaten) am 2. Dienstag
  im Monat um 19:15 Uhr\, die Adresse wird bei verbindlicher Anmeldung
  herausgegeben.\n(Zusätzlich findet in den ungeraden Monaten ein Termin
  an einem anderen Wochentag in einer Gastronomie statt\, hierzu laden wir
  dich gerne ein\, sobald du einmal teilgenommen
  hast.)\n\nAnmeldung:\nSchreib uns gern 2-3 Zeilen dazu\, ob du neu im
  Thema bist\, oder einen Erfahrungsschatz mitbringst\, in beiden Fällen
  bist du herzlich willkommen 🙂\nflinta-polystammtisch@posteo.de
LOCATION:Köln (Stadt)\, Köln
GEO:50.938361;6.959974
ORGANIZER:mailto:Polyamorie Stammtisch für FLINTA*
END:VEVENT
BEGIN:VEVENT
UID:9fa48851-bc8d-4832-b010-ee079ac5de82
SUMMARY:FLINTA* Poly Stammtisch Köln
DTSTART:20260811T171500Z
URL:https://www.polyamory.events/event/9fa48851-bc8d-4832-b010-ee079ac5de82
DTEND:20260811T200000Z
CATEGORIES:Stammtisch\,Nordrhein-Westfalen
DESCRIPTION:Wir möchten einen möglichst sicheren Raum bieten\, eigene
  Erfahrungen mit Menschen zu teilen\, die mindestens eine aufgeschlossene
  Neugier für einvernehmliche nicht-monogame Beziehungen mitbringen.\nBei
  unseren Treffen besprechen wir viel\, da dies ein Raum für Austausch
  ist. Dabei lassen wir uns gegenseitig ausreden und respektieren das
  Erleben von Anderen.\n\nFLINTA*-Personen\, die sich für Polyamorie und
  andere konsensuelle nicht-monogame Beziehungen interessieren und neu im
  Thema sind\, sind ebenso herzlich willkommen wie diejenigen\, die sich
  bereits länger mit dem Thema auseinandersetzen und Austausch über die
  vielen Aspekte\, Herausforderungen und Möglichkeiten wünschen.\nUns ist
  wichtig zu betonen: Damit sind ausdrücklich nicht nur cis Frauen
  gemeint. Willkommen sind unter anderem trans* Frauen\, trans* Männer\,
  nicht-binäre und genderqueere Personen sowie inter* und agender
  Menschen.\n\nEs ist KEINE Selbstoffenbarung / outing uns gegenüber
  nötig. Wenn du dich mit dem FLINTA* Label identifizierst\, heißt das
  automatisch\, daß du in unserer Gruppe willkommen bist.\n\nTermine für
  neue Teilnehmende:\nAlle 2 Monate (in den geraden Monaten) am 2. Dienstag
  im Monat um 19:15 Uhr\, die Adresse wird bei verbindlicher Anmeldung
  herausgegeben.\n(Zusätzlich findet in den ungeraden Monaten ein Termin
  an einem anderen Wochentag in einer Gastronomie statt\, hierzu laden wir
  dich gerne ein\, sobald du einmal teilgenommen
  hast.)\n\nAnmeldung:\nSchreib uns gern 2-3 Zeilen dazu\, ob du neu im
  Thema bist\, oder einen Erfahrungsschatz mitbringst\, in beiden Fällen
  bist du herzlich willkommen 🙂\nflinta-polystammtisch@posteo.de
LOCATION:Köln (Stadt)\, Köln
GEO:50.938361;6.959974
ORGANIZER:mailto:Polyamorie Stammtisch für FLINTA*
END:VEVENT
END:VCALENDAR
