BEGIN:VCALENDAR
VERSION:2.0
PRODID:www.polyamory.events
METHOD:REQUEST
BEGIN:VEVENT
UID:7e4550ba-26d6-4396-b86f-339ec5657e33
SUMMARY:Siegburger Polystammtisch
DTSTART:20260506T163000Z
URL:https://www.polyamory.events/event/7e4550ba-26d6-4396-b86f-339ec5657e33
DTEND:20260506T203000Z
CATEGORIES:Stammtisch\,Nordrhein-Westfalen
DESCRIPTION:<b>❓Bei Fragen</b>: Signal-Gruppe (s.u.) oder PN via Telegram
  an @Dominiqueblabla\n<b>📝Anmeldung:</b> Unverbindliche Voranmeldung
  über Nuudel waere nett
  🙂\nhttps://nuudel.digitalcourage.de/cqh6vRoGoIxfNk14\n\nPolystammtisch
  <em>"nördlich der Sieg"</em> aktuell im Tibet Family Bistro
  Siegburg!\n\nOffen fuer alle Menschen\, mit jeder Identifikation\, die
  sich fuer nonmonogame oder alternative Beziehungsformen
  interessieren.\n\nDas Tibet Family Bistro ist ein kleines\, ruhiges
  Restaurant in der Kaiserstr. und bietet eine Menge Getraenke und Speisen
  an\, auch vegane.\nEs wird fuer 18:30h auf den Namen Wolf
  reserviert.\n\nBitte beachtet\, dass es vereinzelt zu Aenderungen des
  Ortes kommen kann. Schaut deswegen ein paar Tage vorher nochmal in den
  Eintrag oder in die Signal-Gruppe:
  \nhttps://signal.group/#CjQKINIoX7MDYowSlsuNP4rdAcYa2IkNeMo72N7ZuiJ0WHZaE
 hAZZ1qpnXIgxUw5EJtw5Gl1
LOCATION:Tibet Family Bistro Siegburg\, Kaiserstr. 123\, 53721 Siegburg\,
  Reserviert auf den Namen "Wolf"
GEO:50.8030764;7.2048709
ORGANIZER:mailto:Polystammtisch Siegburg
END:VEVENT
BEGIN:VEVENT
UID:40e139ff-7db4-4bff-bca6-e3a5803b845d
SUMMARY:Siegburger Polystammtisch
DTSTART:20260603T163000Z
URL:https://www.polyamory.events/event/40e139ff-7db4-4bff-bca6-e3a5803b845d
DTEND:20260603T203000Z
CATEGORIES:Stammtisch\,Nordrhein-Westfalen
DESCRIPTION:<b>❓Bei Fragen</b>: Signal-Gruppe (s.u.) oder PN via Telegram
  an @Dominiqueblabla\n<b>📝Anmeldung:</b> Unverbindliche Voranmeldung
  über Nuudel waere nett
  🙂\nhttps://nuudel.digitalcourage.de/zN6qz586bpAIHzvZ\n\nPolystammtisch
  <em>"nördlich der Sieg"</em> aktuell im Calabria Siegburg!\n\nOffen fuer
  alle Menschen\, mit jeder Identifikation\, die sich fuer nonmonogame oder
  alternative Beziehungsformen interessieren.\n\nDas Calabria bietet eine
  Menge Getraenke und Speisen an\, auch vegetarische\, jedoch gibt es kaum
  vegane Speisen.\nMeistens sind wir im Untergeschoss zu finden\, mit etwas
  mehr Privatsphaere und es wurde auf den Namen Wolf reserviert.\nBitte
  beachtet\, dass es vereinzelt zu Aenderungen des Ortes kommen kann.
  Schaut deswegen ein paar Tage vorher nochmal in den Eintrag oder in die
  Signal-Gruppe.\n\nWeitere Infos erhaltet ihr auch in unserer
  Signal-Gruppe:
  \nhttps://signal.group/#CjQKINIoX7MDYowSlsuNP4rdAcYa2IkNeMo72N7ZuiJ0WHZaE
 hAZZ1qpnXIgxUw5EJtw5Gl1
LOCATION:Calabria Siegburg\, Am Herrengarten 1\, 53721 Siegburg\,
  Reserviert auf den Namen "Wolf"
GEO:50.7960131;7.2072326
ORGANIZER:mailto:Polystammtisch Siegburg
END:VEVENT
BEGIN:VEVENT
UID:66c82a7f-b669-4e0a-ad45-21dfcaa6dbe6
SUMMARY:Siegburger Polystammtisch
DTSTART:20260701T163000Z
URL:https://www.polyamory.events/event/66c82a7f-b669-4e0a-ad45-21dfcaa6dbe6
DTEND:20260701T203000Z
CATEGORIES:Stammtisch\,Nordrhein-Westfalen
DESCRIPTION:<b>❓Bei Fragen</b>: Signal-Gruppe (s.u.) oder PN via Telegram
  an @Dominiqueblabla\n<b>📝Anmeldung:</b> Unverbindliche Voranmeldung
  über Nuudel waere nett
  🙂\nhttps://nuudel.digitalcourage.de/zN6qz586bpAIHzvZ\n\nPolystammtisch
  <em>"nördlich der Sieg"</em> aktuell im Calabria Siegburg!\n\nOffen fuer
  alle Menschen\, mit jeder Identifikation\, die sich fuer nonmonogame oder
  alternative Beziehungsformen interessieren.\n\nDas Calabria bietet eine
  Menge Getraenke und Speisen an\, auch vegetarische\, jedoch gibt es kaum
  vegane Speisen.\nMeistens sind wir im Untergeschoss zu finden\, mit etwas
  mehr Privatsphaere und es wurde auf den Namen Wolf reserviert.\nBitte
  beachtet\, dass es vereinzelt zu Aenderungen des Ortes kommen kann.
  Schaut deswegen ein paar Tage vorher nochmal in den Eintrag oder in die
  Signal-Gruppe.\n\nWeitere Infos erhaltet ihr auch in unserer
  Signal-Gruppe:
  \nhttps://signal.group/#CjQKINIoX7MDYowSlsuNP4rdAcYa2IkNeMo72N7ZuiJ0WHZaE
 hAZZ1qpnXIgxUw5EJtw5Gl1
LOCATION:Calabria Siegburg\, Am Herrengarten 1\, 53721 Siegburg\,
  Reserviert auf den Namen "Wolf"
GEO:50.7960131;7.2072326
ORGANIZER:mailto:Polystammtisch Siegburg
END:VEVENT
END:VCALENDAR
