BEGIN:VCALENDAR
VERSION:2.0
PRODID:www.polyamory.events
METHOD:REQUEST
BEGIN:VEVENT
UID:f38c61ee-8561-47e0-8980-a7f34962c9a8
SUMMARY:Poly Treff Bielefeld
DTSTART:20260426T130000Z
URL:https://www.polyamory.events/event/f38c61ee-8561-47e0-8980-a7f34962c9a8
DTEND:20260426T160000Z
CATEGORIES:Stammtisch\,Nordrhein-Westfalen
DESCRIPTION:
LOCATION:Selbsthilfe Kontaktstelle Bielefeld\, Stapenhorststr. 5\, 33602
  Bielefeld
GEO:52.0223849;8.5255227
ORGANIZER:mailto:Poly Treff Bielefeld
END:VEVENT
END:VCALENDAR
