BEGIN:VCALENDAR
VERSION:2.0
PRODID:www.polyamory.events
METHOD:REQUEST
BEGIN:VEVENT
UID:f1d5377a-df6c-4696-822a-b605178b679b
SUMMARY:Poly-Treff Bochum
DTSTART:20260206T180000Z
URL:https://www.polyamory.events/event/f1d5377a-df6c-4696-822a-b605178b679b
DTEND:20260206T210000Z
CATEGORIES:Stammtisch\,Nordrhein-Westfalen
DESCRIPTION:Anmeldung unter polytreff.bochum@proton.me
ORGANIZER:mailto:Poly-Treff Bochum
END:VEVENT
END:VCALENDAR
