BEGIN:VCALENDAR
VERSION:2.0
PRODID:www.polyamory.events
METHOD:REQUEST
BEGIN:VEVENT
UID:e7fda743-059c-40ba-afbd-3db1f3e85414
SUMMARY:Poly Treff Bielefeld
DTSTART:20251123T140000Z
URL:https://www.polyamory.events/event/e7fda743-059c-40ba-afbd-3db1f3e85414
DTEND:20251123T170000Z
CATEGORIES:Stammtisch\,Nordrhein-Westfalen
DESCRIPTION:
LOCATION:Selbsthilfe Kontaktstelle Bielefeld\, Stapenhorststr. 5\, 33602
  Bielefeld
GEO:52.0223849;8.5255227
ORGANIZER:mailto:Poly Treff Bielefeld
END:VEVENT
END:VCALENDAR
