BEGIN:VCALENDAR
VERSION:2.0
PRODID:www.polyamory.events
METHOD:REQUEST
BEGIN:VEVENT
UID:9e9f2979-e62e-43a6-aefa-9d2bee489b0b
SUMMARY:Polystammtisch Leipzig
DTSTART:20260625T163000Z
URL:https://www.polyamory.events/event/9e9f2979-e62e-43a6-aefa-9d2bee489b0b
DTEND:20260625T200000Z
CATEGORIES:Stammtisch\,Sachsen
DESCRIPTION:Hiermit laden wir euch alle zum gemütlichen Beisammensein und
  Austausch auf dem Stammtisch ein. Denkt aber bitte an die Regel. Von 19
  bis 19:30 wird keiner auf die Klingel reagieren also wieder pünktlich
  sein oder danach dazu stoßen. \n\nZeit: ab 18:30\, Vorstellungsrunde von
  19 bis 19:30 
LOCATION:RosaLinde Leipzig e.V.\, Demmeringstr. 32\, 04177 Leipzig 
GEO:51.3378604;12.3321046
ORGANIZER:mailto:Polystammtisch Leipzig
END:VEVENT
END:VCALENDAR
