BEGIN:VCALENDAR
VERSION:2.0
PRODID:www.polyamory.events
METHOD:REQUEST
BEGIN:VEVENT
UID:93487f46-4f19-474b-9cda-9d232298b363
SUMMARY:Polystammtisch Bayreuth
DTSTART:20260119T183000Z
URL:https://www.polyamory.events/event/93487f46-4f19-474b-9cda-9d232298b363
DTEND:20260119T210000Z
CATEGORIES:Stammtisch\,Bayern
DESCRIPTION:Wir sind der Polyamory-Stammtisch in Bayreuth!\nWir treffen uns
  einmal im Monat\, meist am dritten Montag\, in einem Lokal oder Café in
  der Bayreuther Innenstadt zum gemütlichen Austausch. Normalerweise
  treffen wir uns im Café Kraftraum\, manchmal bekommen wir dort aber
  keinen Platz mehr\, insbesondere wenn wir mehr als 15 Personen sind.
  Koordiniert wird der Stammtisch\, und auch die Änderung des Ortes\,
  über eine Signal-Gruppe\, zu der ihr über unsere Webseite Zugang
  bekommt.\n\nWenn du Lust hast dich mit uns auszutauschen und am Thema
  Nicht-Monogamie interessiert bist\, komm gerne vorbei! Falls du dir
  unsicher oder schüchtern bist\, schreib gerne eine unserer Orga-Personen
  an\; es gibt die Möglichkeit\, dich vorher z.B. mit ihnen in einem
  direkten Gespräch zu treffen.\n\nWeitere Informationen findest du auf
  unserer Webseite!
LOCATION:Café Kraftraum\, Sophienstr. 16\, 95444 Bayreuth
GEO:49.9436951;11.5729381
ORGANIZER:mailto:Polystammtisch Bayreuth
END:VEVENT
END:VCALENDAR
