BEGIN:VCALENDAR
VERSION:2.0
PRODID:www.polyamory.events
METHOD:REQUEST
BEGIN:VEVENT
UID:7e21818b-59cb-4950-998b-d965e7b35f74
SUMMARY:Polystammtisch Bonn
DTSTART:20260521T163000Z
URL:https://www.polyamory.events/event/7e21818b-59cb-4950-998b-d965e7b35f74
DTEND:20260521T210000Z
CATEGORIES:Stammtisch\,Nordrhein-Westfalen
DESCRIPTION:Polystammtisch\n📅 Wann: jeden dritten Donnerstag ab
  18:30Uhr\n📍 Wo: Fiddler's Pub\, Frongasse 9\, Bonn\n🙏 Kosten:
  keine\, außer eure Bestellung\n📝 Anmeldung: Nicht
  erforderlich\n\nJeden 3. Donnerstag im Monat findet der Bonner
  Polyamorie-Stammtisch statt. Wir treffen uns im Fiddlers Pub im oberen
  Wintergarten. Dort sind wir unter uns und können uns ungestört
  unterhalten. \n  \n👤 Zielgruppe: Alle Menschen unabhängig von
  Geschlecht\, sexueller oder romantischer Orientierung. Egal in welchem
  Beziehungskonzept ihr gerade lebt\, Hauptsache ihr habt Interesse am
  Thema Polyamorie. \n\nWenn ihr euch über einvernehmlich-nicht-monogame
  Beziehungskonzepte austauschen oder einfach einen schönen Abend in
  netter Gesellschaft verbringen wollt\, kommt vorbei.\n\nGegen 19:30Uhr
  gibt es eine Vorstellungsrunde und danach einfach offene Gespräche.
  \n\nWir freuen uns auf Euch.\nLiebe Grüße\nFlorian und Melanie
LOCATION:Fiddler's Pub\, Frongasse 9\, Bonn Endenich \, Oberer Wintergarten
  
GEO:50.7275622;7.0749558
ORGANIZER:mailto:Polystammtisch Bonn
END:VEVENT
END:VCALENDAR
