BEGIN:VCALENDAR
VERSION:2.0
PRODID:www.polyamory.events
METHOD:REQUEST
BEGIN:VEVENT
UID:3a2d5088-60aa-419e-848c-bd6c1d0ee203
SUMMARY:Polyamorie Stammtisch Düsseldorf
DTSTART:20260121T180000Z
URL:https://www.polyamory.events/event/3a2d5088-60aa-419e-848c-bd6c1d0ee203
DTEND:20260121T220000Z
CATEGORIES:Stammtisch\,Nordrhein-Westfalen
DESCRIPTION:Der Polyamorie Stammtisch Düsseldorf lädt alle Menschen ein\,
  die sich für Beziehungsvielfalten aller Art interessieren!\n\nHier wird
  in lockerem\, unmoderierten Umfang und angenehmer Atmosphäre über
  Polyamorie\, Beziehungsanarchie\, freie Liebe\, offene Beziehung und alle
  möglichen Variationen non-monogamer Beziehungsstrukturen gequatscht\,
  Erfahrungen ausgetauscht\, diskutiert und kennengelernt! Wir sind kein
  Sex-Treff und keine Dating-Plattform\, es ist keine Anmeldung notwendig
  und der Eintritt ist natürlich frei! Wir bemühen uns um einen
  möglichst inklusiven Safer Space – mehr dazu könnt ihr auf unserer
  Webseite nachlesen.\n\n🔗 https://poly-ddorf.de\n🔗
  https://spilles.de/abendbereich\n\n💵 Achtung: nur Barzahlung!\n🍔
  Essen und Snacks können mitgebracht werden\n☕ Getränke gibt's vor
  Ort\n♿ Barrierefrei\n🐶 liebe Haustiere sind erlaubt\n🏳️‍🌈
  Safer Space
LOCATION:Haus Spilles\, Benrather Schloßallee 93\, 40597
  Düsseldorf-Benrath
GEO:51.1624554;6.8670427
ORGANIZER:mailto:Polyamorie Düsseldorf
END:VEVENT
END:VCALENDAR
