BEGIN:VCALENDAR
VERSION:2.0
PRODID:www.polyamory.events
METHOD:REQUEST
BEGIN:VEVENT
UID:016462ea-936a-40a3-922c-949f57d65325
SUMMARY:polyRAUM Nord
DTSTART:20260518T150000Z
URL:https://www.polyamory.events/event/016462ea-936a-40a3-922c-949f57d65325
DTEND:20260522T090000Z
CATEGORIES:Community-Treffen\,Niedersachsen
DESCRIPTION:Hast du Lust auf ein unbeschwertes Wochenende mit Reden\,
  Chillen\, Flauschen\, Wissen teilen und sich kennen lernen? Mal drei Tage
  die Seele baumeln lassen?\n\nEin paar Tage abtauchen in die
  poly-Familie\, gemeinsame Zeit gestalten\, lachen und Spaß haben. Als
  soziale Wesen sehnen wir uns nach Nähe\, Kontakt und Berührung\, nach
  gegenseitigem Nähren und danach\, in Gemeinschaft zu sein. Hier gibt es
  die Möglichkeit des Austauschs\, der Verbundenheit und des gegenseitigen
  Lernens. Wir treffen uns\, um uns zu vernetzen. Es geht um
  Kommunikation\, Selbstreflexion\, Wahrnehmung und Unterstützung. Wir
  teilen unser Wissen darüber.\n\nDann komm zum polyRAUM-Nord bei
  Osnabrück\,\neinem Ableger des original polyRAUMs aus Rheinland-Pfalz /
  Hessen.\n\nAn wen richtet sich die Veranstaltung?\nAngesprochen sind
  polyamor lebende oder fühlende Menschen. Wir verstehen uns als
  sexpositive\, kinkpositive Veranstaltung.\n\nWenn Du dazukommen
  möchtest\, deine Gestaltungsideen in eine Gruppe herzensgebildeter
  Menschen einbringen magst und Wärme\, Freiheit und inspirierende
  Kreativität gleichermaßen genießen willst\, dann bist Du hier genau
  richtig.\n\nDie Unterkunft\nUnser Haus liegt wunderbar im Grünen\, ruhig
  und abgelegen in der Gegend um Osnabrück. Das Haus bietet viel Platz\,
  zusammenschiebbare Betten in 2-4er Zimmern\, eine Sauna\, Kuschelraum\,
  Begegnungsraum\, Außenbereich\, große Küche für Selbstversorger
  …\n\nWir planen mit 20-25 Menschen\, so dass die Atmosphäre noch
  familiär sein wird.\n\nDie Veranstaltung\nDas Besondere am polyRAUM sind
  die familiäre Atmosphäre und die angenehme\, offene poly-Gemeinschaft\,
  in die sich jeder einbringen kann und soll. Wir gestalten ein
  Miteinanderzusammensein\, ein „Wochenende unter Freunden“\, und
  tragen alle dazu bei\, dass es so wird\, wie wir es haben wollen. Es wird
  genau SO schön\, wie wir es uns machen\, also bitte komm ohne
  Konsumhaltung\, dafür aber mit viel Lust auf Gestaltung\, mit Ideen und
  mit schöpferischem Erfindungsreichtum.\n\nDie jedes Mal neue Mischung
  aus Vorträgen\, Workshops\, Diskussionen\, erfahrbaren
  Wahrnehmungsübungen\, Meditation\, Entspannen\, Spielen und Tanzen
  kreieren wir selbst. Wir probieren uns aus\, sind entwicklungsoffen und
  stärken unsere Fähigkeiten.\n\nWeil wir es schön haben wollen\, sorgen
  wir selbst dafür\, dass es für alle schön wird. Wir schaffen eine
  Atmosphäre\, in der wir uns öffnen und einander inspirieren können\,
  schaffen uns Raum für Tiefgang\, Unbeschwertheit und
  Kreativität.\n\nWir tauschen unsere Ideen und Erfahrungen zu Polyamorie
  aus und unterstützen einander in dem Mut\, so zu leben. Wir entwickeln
  unsere Persönlichkeit und unsere Art zu kommunizieren weiter. Wir bieten
  einander Vorträge und Workshops an\, denn etwas zu erleben\, ist anders
  als nur darüber nachzudenken.\n\nVoranmeldung\nWenn Du Dich angesprochen
  fühlst\, freuen wir uns über Deine Voranmeldung. Da wir uns eine gut
  gemischte Gruppe wünschen\, garantiert Deine Voranmeldung aber noch
  keine Teilnahme.\n\n\n\n\nAnmeldungen unter: https://www.polyraum-nord.de
LOCATION:Nähe Osnabrück\, Osnabrück
GEO:52.2719595;8.047635
ORGANIZER:mailto:PolyStammtisch Gelsenkirchen
END:VEVENT
END:VCALENDAR
